BEGIN:VCALENDAR
VERSION:2.0
X-WR-TIMEZONE:Europe/Paris
PRODID:-//Audencia//NONSGML v1.0//EN
CALSCALE:GREGORIAN
BEGIN:VEVENT
SUMMARY:chapter Lyon - soirée Alumni - 10 octobre
DTSTART:20171010T200000
DTEND:20171010T230000
UID:71
DTSTAMP:20260425T223737
LOCATION:bar l'Envers des Pentes, 112 Montée de la Grande-Côte, 69001 Lyon, métro Hôtel de Ville.
DESCRIPTION:Revoici le chapter !\nNous vous convions au prochain événement Réseau le 10 octobre prochain à 20h à ce qui est en passe de devenir notre QG : bar l'Envers des Pentes, 112 Montée de la Grande-Côte, 69001 Lyon, métro Hôtel de Ville.\nSoirée simple dans l'organisation et dans l'esprit, alors venez nombreux.\nPaul PINLON (GE2009, animateur chapter régional Lyon)
BEGIN:VALARM
ACTION:DISPLAY
TRIGGER:-PT60M
DESCRIPTION:chapter Lyon - soirée Alumni - 10 octobre
END:VALARM
END:VEVENT
END:VCALENDAR