BEGIN:VCALENDAR
VERSION:2.0
X-WR-TIMEZONE:Europe/Paris
PRODID:-//Audencia//NONSGML v1.0//EN
CALSCALE:GREGORIAN
BEGIN:VEVENT
SUMMARY:Nantes - Afterwork Bonne Année au Radisson !
DTSTART:20180110T190000
DTEND:20180110T220000
UID:70
DTSTAMP:20260425T205719
LOCATION:Bar du Radisson « Le Préambule » - 6 Place Aristide Briand, 44000 Nantes.
DESCRIPTION:Le Chapter Nantes a le plaisir de vous proposer un afterwork le 10 janvier dès 19h00 au Radisson !\nUn verre offert par Audencia Alumni ... une nouvelle année, ça s'arrose aussi avec le Chapter Nantes !\n\nVenez networker sans pression autour d'un verre, partager vos expériences et projets, échanger avec les diplômés investis dans l'animation du Réseau Nantais et découvrir peut-être un nouvel endroit pour vos futures sorties ... \nPour fêter cette nouvelle année, nous nous retrouverons au ​Bar du Radisson « Le Préambule » - 6 Place  Aristide Briand.\n\nAu plaisir de vous y retrouver nombreux !\n \nInscription recommandée pour des raisons d'organisation. \nSandrine Haudebert, ambassadrice du Chapter Nantes \n07 83 31 08 02
BEGIN:VALARM
ACTION:DISPLAY
TRIGGER:-PT60M
DESCRIPTION:Nantes - Afterwork Bonne Année au Radisson !
END:VALARM
END:VEVENT
END:VCALENDAR