BEGIN:VCALENDAR
VERSION:2.0
X-WR-TIMEZONE:Europe/Paris
PRODID:-//Audencia//NONSGML v1.0//EN
CALSCALE:GREGORIAN
BEGIN:VEVENT
SUMMARY:Afterwork de Printemps à Nantes
DTSTART:20170405T193000
DTEND:20170405T213000
UID:7
DTSTAMP:20260425T223737
LOCATION:Le Marceau - 3 rue Camille Berruyer - 44000 Nantes
DESCRIPTION:Le Chapter Nantes a le plaisir de vous proposer un afterwork, comme toujours, top convivial le mercredi 5 avril dès 19h30 !\nProfitez de cette soirée pour networker autour d'un verre, partager vos expériences et projets, échanger avec les diplômés investis dans l'animation du Réseau Nantais, ... \n\nAu plaisir de vous y retrouver nombreux !\n\nInscription recommandée pour des raisons d'organisation\n \n\nParking souterrain place Aristide Briand (Radisson Blu) tout près. 
BEGIN:VALARM
ACTION:DISPLAY
TRIGGER:-PT60M
DESCRIPTION:Afterwork de Printemps à Nantes
END:VALARM
END:VEVENT
END:VCALENDAR