BEGIN:VCALENDAR
VERSION:2.0
X-WR-TIMEZONE:Europe/Paris
PRODID:-//Audencia//NONSGML v1.0//EN
CALSCALE:GREGORIAN
BEGIN:VEVENT
SUMMARY:Nantes - Afterwork
DTSTART:20171109T190000
DTEND:20171109T210000
UID:69
DTSTAMP:20260425T223813
LOCATION:Au Bureau - 10 Quai François Mitterrand, 44200 Nantes
DESCRIPTION:Le Chapter Nantes a le plaisir de vous proposer un afterwork le 9 novembre 2017 à  partir de19h00.\nLes afterworks sont des moments d'échanges privilégiés entre aluminis (diplômés, étudiants) afin de permettre de tisser ou re-tisser notre réseau naturel. Ce sont toujours des moments de bonnes surprises et de belles rencontres. De mémoire de diplômé, on vous a toujours vu repartir avec le sourire ! \n\nAlors, lâchez vos dossiers et vos 95 mails en attente, venez comme vous êtes, et offrez-vous une parenthèse dans votre semaine.\n\nEn cas de désistement de dernières minute, ayez la gentillesse de me prévenir au 07 83 31 08 02.\nSandrine Haudebert \n\n \nInscription recommandée pour des raisons d'organisation
BEGIN:VALARM
ACTION:DISPLAY
TRIGGER:-PT60M
DESCRIPTION:Nantes - Afterwork
END:VALARM
END:VEVENT
END:VCALENDAR