BEGIN:VCALENDAR
VERSION:2.0
X-WR-TIMEZONE:Europe/Paris
PRODID:-//Audencia//NONSGML v1.0//EN
CALSCALE:GREGORIAN
BEGIN:VEVENT
SUMMARY:Nantes - Afterwork de rentrée
DTSTART:20170928T190000
DTEND:20170928T213000
UID:68
DTSTAMP:20260425T205723
LOCATION:Cour 87 - 87, rue Maréchal Joffre , 44000 Nantes
DESCRIPTION:Le Chapter Nantes a le plaisir de vous proposer un nouvel afterwork le 28 septembre 2017 dès 19h30 !\nça y est : septembre est déjà bien entamé et on a tous repris nos rythmes endiablés. Pour faire une petite pause agréable, le Chapter Nantes vous propose de reprendre le rythme des afterworks toutes les 6 semaines eniron. \n\nProfitez-en, en mode cool et sans pression (sauf celle de la bière !) pour networker autour d'un verre, partager vos expériences et projets, échanger avec les diplômés investis dans l'animation du Réseau Nantais et découvrir peut-être un nouvel endroit pour vos futures sorties ... \nNous nous retrouverons donc à COUR 87 , 87, rue Maréchal Joffre,  44000 Nantes\nhttps://goo.gl/maps/AhdtN6zSGZw\n\nAu plaisir de vous y retrouver nombreux !\n \nInscription recommandée pour des raisons d'organisation\n 
BEGIN:VALARM
ACTION:DISPLAY
TRIGGER:-PT60M
DESCRIPTION:Nantes - Afterwork de rentrée
END:VALARM
END:VEVENT
END:VCALENDAR