BEGIN:VCALENDAR
VERSION:2.0
X-WR-TIMEZONE:Europe/Paris
PRODID:-//Audencia//NONSGML v1.0//EN
CALSCALE:GREGORIAN
BEGIN:VEVENT
SUMMARY:Afterwork à Lausanne, vendredi 6 octobre dès 19h00, Bistrot "Ta Cave"
DTSTART:20171006T190000
DTEND:20171006T220000
UID:67
DTSTAMP:20260425T205705
LOCATION:Bistrot "Ta cave", Rue du Simplon 35, 1006 Lausanne.
DESCRIPTION:La rentrée étant dernière nous, nous vous proposons une nouvelle rencontre lausannoise\nau Bistrot "Ta cave", Rue du Simplon 35, 1006 Lausanne. http://tacave.ch/\nCe sympathique bar à vin est situé juste sous la gare: facile d'accès en train pour les Alumni qui viennent de plus loin et que nous serons ravis de rencontrer.\nInscrivez-vous, nous réservons un espace à nous en conséquence.\nVenez nombreux, au plaisir de partager ce moment convivial,\nCarole, Lydie, Jean-Romain et Rodolphe\n 
BEGIN:VALARM
ACTION:DISPLAY
TRIGGER:-PT60M
DESCRIPTION:Afterwork à Lausanne, vendredi 6 octobre dès 19h00, Bistrot "Ta Cave"
END:VALARM
END:VEVENT
END:VCALENDAR