BEGIN:VCALENDAR
VERSION:2.0
X-WR-TIMEZONE:Europe/Paris
PRODID:-//Audencia//NONSGML v1.0//EN
CALSCALE:GREGORIAN
BEGIN:VEVENT
SUMMARY:Afterwork Chapter Zurich
DTSTART:20171018T193000
DTEND:20171018T230000
UID:65
DTSTAMP:20260425T205703
LOCATION:Felix Kalkbreitestrasse 8,  8003 Zurich
DESCRIPTION:Après plusieurs mois d’absence, l’afterwork des Audenciens et Audenciennes de Zurich est enfin de retour. \n\nJ’espère que vous avez passé de bonnes vacances et que la rentrée s’est bien passée.\n\nJe vous propose donc de tous nous retrouver le 18 Octobre à partir de 19h30 au Félix. \n\nEn espérant vous y voir nombreux !\n\nAntoine
BEGIN:VALARM
ACTION:DISPLAY
TRIGGER:-PT60M
DESCRIPTION:Afterwork Chapter Zurich
END:VALARM
END:VEVENT
END:VCALENDAR