BEGIN:VCALENDAR
VERSION:2.0
X-WR-TIMEZONE:Europe/Paris
PRODID:-//Audencia//NONSGML v1.0//EN
CALSCALE:GREGORIAN
BEGIN:VEVENT
SUMMARY:Welcome Back 2017 - 6ème édition
DTSTART:20171124T190000
DTEND:20171124T235900
UID:64
DTSTAMP:20260425T223811
LOCATION:4 rue Bisson, 44000 Nantes
DESCRIPTION:Pour la 6ème année consécutive, le réseau Audencia Bachelor Network organise la Welcome Back.\n\nUn moment convivial dédié à tous les diplômés de l'EGC, de l'IPAC, de l'EAC et d'Audencia Bachelor.\n\nCelle-ci se déroulera le Vendredi 24 Novembre à partir de 19h. Nous vous attendons nombreux. Inscrivez vous vite à l'événement via Together et/ou Facebook.\n\nPlus d'informations à venir...
BEGIN:VALARM
ACTION:DISPLAY
TRIGGER:-PT60M
DESCRIPTION:Welcome Back 2017 - 6ème édition
END:VALARM
END:VEVENT
END:VCALENDAR