BEGIN:VCALENDAR
VERSION:2.0
X-WR-TIMEZONE:Europe/Paris
PRODID:-//Audencia//NONSGML v1.0//EN
CALSCALE:GREGORIAN
BEGIN:VEVENT
SUMMARY:Dîner de rentrée au Si Bémol
DTSTART:20170928T193000
DTEND:20170928T233000
UID:63
DTSTAMP:20260425T223705
LOCATION:Le Si Bémol,  17 place Dupuy 31000 Toulouse Métro: ligne B, François-Verdier Bus: 22 et L1 Parking: Carnot
DESCRIPTION:Nous vous proposons un dîner de rentrée au Si Bémol, place Dupuy au centre ville de Toulouse.\nMenu à 32€ comprenant Entrée, Plat et Dessert, Vin et café. Merci de faire votre choix par avance ici : https://fr.surveymonkey.com/r/JZBMBBG\nNous vous attendons nombreux pour cet événement !\nN'hésitez pas à contacter Hélène Druet pour toute question.\nA bientôt !\n 
BEGIN:VALARM
ACTION:DISPLAY
TRIGGER:-PT60M
DESCRIPTION:Dîner de rentrée au Si Bémol
END:VALARM
END:VEVENT
END:VCALENDAR