BEGIN:VCALENDAR
VERSION:2.0
X-WR-TIMEZONE:Europe/Paris
PRODID:-//Audencia//NONSGML v1.0//EN
CALSCALE:GREGORIAN
BEGIN:VEVENT
SUMMARY:Lille - Afterwork 3
DTSTART:20170920T183000
DTEND:20170920T203000
UID:62
DTSTAMP:20260425T205728
LOCATION:L'Agence  - 17 Place Jacquart, à Lille Un bar-brasserie aux influences mi-ch'ties mi-italiennes. Situé à quelques pas de la Place de la République, donc facile d'accès en métro/bus et parking République pour les voitures.
DESCRIPTION:Bonjour à tous, \n\nOn garde le rythme bimestriel de ce nouveau rendez-vous Alumni de Lille et du Nord : Je vous propose un 3eme Afterwork, en septembre, pour se réunir autour d'un verre et échanger nos expériences de diplômés ou étudiants d'Audencia.\nLe lieu : Bar-brasserie L'Agence, situé 17 Place Jacquart, dans le centre de Lille (à côté de République), donc facile d'accès en transports en commun, et avec le parking République pour ceux qui viennent en voiture (il y a aussi un petit parking juste en face du l'Agence mais souvent rempli.\nVoilà, vous savez tout, il ne vous reste plus qu'à vous inscrire, et à faire passer le mot aux Alumni de votre entourage.   \n\nSi 18h30 est un peu trop tôt pour vous, ce n'est pas un souci, inscrivez-vous et venez dès que vous pouvez. Pensez simplement à me dire votre heure d'arrivée probable pour que je sache quoi ;)\n\nN'hésitez pas à venir accompagné et surtout à passer le message aux autres Alumni qui ne sont pas encore venus sur Together (encore 6 et on dépasse le Chapter Toulouse) !!\n\nCédric Foussard\n07.62.14.75.34
BEGIN:VALARM
ACTION:DISPLAY
TRIGGER:-PT60M
DESCRIPTION:Lille - Afterwork 3
END:VALARM
END:VEVENT
END:VCALENDAR