BEGIN:VCALENDAR
VERSION:2.0
X-WR-TIMEZONE:Europe/Paris
PRODID:-//Audencia//NONSGML v1.0//EN
CALSCALE:GREGORIAN
BEGIN:VEVENT
SUMMARY:Afterwork Audencia Munich Septembre avec Uwe Supper
DTSTART:20170921T190000
DTEND:20170921T230000
UID:61
DTSTAMP:20260425T205815
LOCATION:Augustiner am Dom - http://www.augustineramdom.de  (Frauenplatz 8,  près de Marienplatz)
DESCRIPTION:Bonjour,\n\nà l´occasion de la venue annuelle d´Uwe Supper à Munich, je vous propose de se retrouver pour un Afterwork le jeudi 21 septembre à la brasserie Augustiner am Dom près de Marienplatz.\n\nJ'ai réservé pour 14 personnes pour demain soir dès 19h au Augustiner am Dom, sous le nom AUDENCIA.\n\nA bientôt,\n\nAmandine\n​+4917630314025\n\n 
BEGIN:VALARM
ACTION:DISPLAY
TRIGGER:-PT60M
DESCRIPTION:Afterwork Audencia Munich Septembre avec Uwe Supper
END:VALARM
END:VEVENT
END:VCALENDAR