BEGIN:VCALENDAR
VERSION:2.0
X-WR-TIMEZONE:Europe/Paris
PRODID:-//Audencia//NONSGML v1.0//EN
CALSCALE:GREGORIAN
BEGIN:VEVENT
SUMMARY:Afterwork Munich - Août
DTSTART:20170817T190000
DTEND:20170817T230000
UID:60
DTSTAMP:20260425T205718
LOCATION:Festival Impark, Olympiapark (www.impark.de)
DESCRIPTION:Je vous invite au festival impark dans le parc Olympique.\nPoint de RDV: sortie du U3 Olympiazentrum, devant le BMW Welt\n\nS´il pleut je trouverai un plan B dans le coin.
BEGIN:VALARM
ACTION:DISPLAY
TRIGGER:-PT60M
DESCRIPTION:Afterwork Munich - Août
END:VALARM
END:VEVENT
END:VCALENDAR