BEGIN:VCALENDAR
VERSION:2.0
X-WR-TIMEZONE:Europe/Paris
PRODID:-//Audencia//NONSGML v1.0//EN
CALSCALE:GREGORIAN
BEGIN:VEVENT
SUMMARY:Afterwork Audencia London
DTSTART:20170412T183000
DTEND:20170412T203000
UID:6
DTSTAMP:20260425T223813
LOCATION:Baranis, 115 Chancery Lane, London WC2A 1PP
DESCRIPTION:Bonjour Audencia people of London,\n\nAs we are an established tribe looking to grow Audencia's influence in this beautifully cosmopolitan city, let's meet for a few drinks on Wednesday 12 April at a very cool bar called Baranis on Chancery Lane to exchange on our experience in London and make new friends.\n\nFor the most nostalgic and southerners of us, you can have pastis and there is a pétanque court.\n\nSee you all very soon.\n\nBien à vous\n\nTristan Pelloux
BEGIN:VALARM
ACTION:DISPLAY
TRIGGER:-PT60M
DESCRIPTION:Afterwork Audencia London
END:VALARM
END:VEVENT
END:VCALENDAR