BEGIN:VCALENDAR
VERSION:2.0
X-WR-TIMEZONE:Europe/Paris
PRODID:-//Audencia//NONSGML v1.0//EN
CALSCALE:GREGORIAN
BEGIN:VEVENT
SUMMARY:Afterwork Audencia London N°4
DTSTART:20170906T183000
DTEND:20170906T210000
UID:59
DTSTAMP:20260425T205719
LOCATION:Bar Kick, 127 Shoreditch High Street, London E1 6JE
DESCRIPTION:Audencia people of London,\n\nL’été est déjà fini… c’est l’heure de la rentrée des classes. Let's meet again at the Bar Kick in the super trendy borough of Shoreditch to have some drinks, show each other how tanned we are from our holidays and last but not least play some very French 'baby foot'!\nA football table is reserved for us along with the daily happy hour deal.\n \nSee you all very soon.\n\nAmicalement vôtre,\n\nTristan
BEGIN:VALARM
ACTION:DISPLAY
TRIGGER:-PT60M
DESCRIPTION:Afterwork Audencia London N°4
END:VALARM
END:VEVENT
END:VCALENDAR