BEGIN:VCALENDAR
VERSION:2.0
X-WR-TIMEZONE:Europe/Paris
PRODID:-//Audencia//NONSGML v1.0//EN
CALSCALE:GREGORIAN
BEGIN:VEVENT
SUMMARY:IMM 2012 Reunion Lunch
DTSTART:20170923T140000
DTEND:20170923T180000
UID:58
DTSTAMP:20260425T205719
LOCATION:To be decided
DESCRIPTION:Bonjour!!!\n\nThis lunch is just for the IMMers of the promo 2012. All the details will soon be updated.\n\nSee y'all soon!\n\nBabi and Rob
BEGIN:VALARM
ACTION:DISPLAY
TRIGGER:-PT60M
DESCRIPTION:IMM 2012 Reunion Lunch
END:VALARM
END:VEVENT
END:VCALENDAR