BEGIN:VCALENDAR
VERSION:2.0
X-WR-TIMEZONE:Europe/Paris
PRODID:-//Audencia//NONSGML v1.0//EN
CALSCALE:GREGORIAN
BEGIN:VEVENT
SUMMARY:Summer Afterwork in Toulouse
DTSTART:20170801T190000
DTEND:20170801T230000
UID:57
DTSTAMP:20260425T205733
LOCATION:Black Lion 4 Allées Paul Feuga 31400 Toulouse (métro ligne B Palais de Justice)
DESCRIPTION:Nous vous invitons à nous retrouver pour une soirée d'été informelle au Black Lion ! Rendez-vous dès 19h !
BEGIN:VALARM
ACTION:DISPLAY
TRIGGER:-PT60M
DESCRIPTION:Summer Afterwork in Toulouse
END:VALARM
END:VEVENT
END:VCALENDAR