BEGIN:VCALENDAR
VERSION:2.0
X-WR-TIMEZONE:Europe/Paris
PRODID:-//Audencia//NONSGML v1.0//EN
CALSCALE:GREGORIAN
BEGIN:VEVENT
SUMMARY:Afterwork 2 Chapter Lille
DTSTART:20170726T183000
DTEND:20170726T203000
UID:56
DTSTAMP:20260425T205715
LOCATION:Le St 21, nouveau bar lounge libanais situé au 21 rue Saint Etienne 59000 Lille. C'est à dire sur la place du Nouveau Siècle
DESCRIPTION:Hello à tous, \n\nJe vous propose un 2eme rendez-vous estival pour se réunir dans la simplicité autour d'un verre et échanger nos expériences de diplômés ou étudiants d'Audencia.\nJe prends un peu plus de marge que pour le 1er rendez-vous, en espérant que vous pourrez venir profiter du soleil en terrasse sur la Place du Nouveau Siècle. Le St 21 est un petit bar tapas libanais qui a ouvert récemment et que j'ai trouvé fort sympathique lorsque je l'ai découvert. Merci de me confirmer rapidement votre présence afin que je puisse réserver une table.\nN'hésitez pas àvenir accompagné et surtout à passer le message aux autres Alumni qui ne sont pas encore venus sur Together !\n\nDonc, pour résumer : Rendez-vous mercredi 26 juillet, au St 21 sur la place du Nouveau Siècle à Lille, à partir de 18h30 pour discuter autour d'un verre ! ?\n\nPour ceux qui viennent en voiture, le parking du Nouveau Siècle est juste à côté !\nCédric Foussard\n 
BEGIN:VALARM
ACTION:DISPLAY
TRIGGER:-PT60M
DESCRIPTION:Afterwork 2 Chapter Lille
END:VALARM
END:VEVENT
END:VCALENDAR