BEGIN:VCALENDAR
VERSION:2.0
X-WR-TIMEZONE:Europe/Paris
PRODID:-//Audencia//NONSGML v1.0//EN
CALSCALE:GREGORIAN
BEGIN:VEVENT
SUMMARY:Afterwork- Atmosphere Bar
DTSTART:20170710T193000
DTEND:20170710T220000
UID:55
DTSTAMP:20260425T205735
LOCATION:Atmosphere Bar, 80F, China World Summit Wing国贸三期, Beijing
DESCRIPTION:Hello guys,\n\nOur second afterwork in Beijing is today! \nYou may have missed last one, but not this time. We're meeting in the highest bar in Beijing. \nCome and join us!
BEGIN:VALARM
ACTION:DISPLAY
TRIGGER:-PT60M
DESCRIPTION:Afterwork- Atmosphere Bar
END:VALARM
END:VEVENT
END:VCALENDAR