BEGIN:VCALENDAR
VERSION:2.0
X-WR-TIMEZONE:Europe/Paris
PRODID:-//Audencia//NONSGML v1.0//EN
CALSCALE:GREGORIAN
BEGIN:VEVENT
SUMMARY:Run & Afterwork Audencia - #Paris2024 #FeteNationale
DTSTART:20170711T195900
DTEND:20170711T223000
UID:54
DTSTAMP:20260425T205823
LOCATION:6, rue de la Petite Truanderie Bar le Max - Les Halles - Paris
DESCRIPTION:Ici, on court pour : \n- Accueillir les Jeux #Paris2024??\n- Sensibiliser aux enjeux environnementaux - 10 km =1 ?#MakeOurPlanetGreatAgain\n- Se (re)mettre au sport #sportsanté?‍♀️??\n- Passer un bon moment #afterwork ??\nVous êtes toutes et tous les bienvenues!\nA mardi 19h50 au Le Max! ? \nPs : Tout l'été, Goodies à gagner!\n\n \n\nDe manière générale : \n\nVenez nous rejoindre au nouveau rdv sportif et networking parisien d'ores et déjà incontournable!\n\nC'est quand? Tous les mardis, départ 20h (arrivez un peu avant pour vous changer et déposer vos affaires)\n\nC'est où? Rdv au Bar le Max (6, rue de la petite Truanderie - Les Halles - Paris)\n\nPour qui? Pour TOUT LE MONDE : sportifs avérés ou non, diplomés ou non, Audenciens ou non (les amis, collègues, N+1 sont les bienvenus)... Un seul mot d'ordre : PLAISIR!\n\nQue faut-il ramener? Seulement vos baskets et votre bonne humeur (et qqs euros pour un verre)\n\nQuelle logistique? Vous pouvez vous changer et laisser vos affaires au bar durant le Run\n\nQuel parcours? Différentes boucles le long des Quais de Seine sont proposés... Aucun soucis si vous n'êtes jamais venu, vous ne serez pas seuls : des personnes de tout niveau et de toute promotion sont là chaque semaine\n\nEt après le Run? Un verre (ou 2) ??dans la foulée pour se connaitre et échanger\nOn compte sur vous pour venir et en parler autour de vous \n\n\nA mardi !! ?
BEGIN:VALARM
ACTION:DISPLAY
TRIGGER:-PT60M
DESCRIPTION:Run & Afterwork Audencia - #Paris2024 #FeteNationale
END:VALARM
END:VEVENT
END:VCALENDAR