BEGIN:VCALENDAR
VERSION:2.0
X-WR-TIMEZONE:Europe/Paris
PRODID:-//Audencia//NONSGML v1.0//EN
CALSCALE:GREGORIAN
BEGIN:VEVENT
SUMMARY:Afterwork de Rentrée - Promo Audencia GE 96
DTSTART:20170914T190000
DTEND:20170914T220000
UID:53
DTSTAMP:20260425T223838
LOCATION:L'Apollo, 106 boulevard du Montparnasse, 75014 Paris
DESCRIPTION:Cher diplômé de la promo Audencia GE 96 et des promos voisines,\nNous avions convenu après la soirée réussi de nos 20 ans de promo de ré-éditer l'exploit sans attendre les 25 ou 30 ans de promo. Aussi, la bonne résolution pour la rentrée qui se profile après les congés bien méritées de cet été est de caler un créneau pour se retrouver autour d'un verre et de quelques planches\nFais passer le mot et inscris toi sur le site.\n\nNicolas, votre ambassadeur de Promo\n \nPS: l'inscription à l'afterwork est gratuite, les consommations seront à la charge des participants
BEGIN:VALARM
ACTION:DISPLAY
TRIGGER:-PT60M
DESCRIPTION:Afterwork de Rentrée - Promo Audencia GE 96
END:VALARM
END:VEVENT
END:VCALENDAR