BEGIN:VCALENDAR
VERSION:2.0
X-WR-TIMEZONE:Europe/Paris
PRODID:-//Audencia//NONSGML v1.0//EN
CALSCALE:GREGORIAN
BEGIN:VEVENT
SUMMARY:After work - Lausanne 13 juillet - Bistro Tacave
DTSTART:20170713T190000
DTEND:20170713T213000
UID:52
DTSTAMP:20260425T223814
LOCATION:bistrot tacave (tacave.ch) Rue du Simplon 35, 1006 Lausanne. Endroit vivement recommandé par Lydie!
DESCRIPTION:Jean-Romain FALCONNET,  Carole  LEVANTI, Lydie et moi-même vous proposons d'organiser un after-work le 13 juillet prochain sur Lausanne, au bistrot tacave (www.tacave.ch) situé Rue du Simplon 35, 1006 Lausanne.\nEndroit vivement recommandé par Lydie, 1er bar à vin crowdfundé (nouveau mot!) et surtout situé juste à côté de la gare, ... si jamais les genevois décident de nous honorer de leur présence ! \nInscrivez-vous et faites venir vos amis éventuellement Alumni !\nVoir aussi https://www.linkedin.com/groups/2437734/2437734-6286571337112649729\nAmicalement.
BEGIN:VALARM
ACTION:DISPLAY
TRIGGER:-PT60M
DESCRIPTION:After work - Lausanne 13 juillet - Bistro Tacave
END:VALARM
END:VEVENT
END:VCALENDAR