BEGIN:VCALENDAR
VERSION:2.0
X-WR-TIMEZONE:Europe/Paris
PRODID:-//Audencia//NONSGML v1.0//EN
CALSCALE:GREGORIAN
BEGIN:VEVENT
SUMMARY:Afterwork Chapter Lille
DTSTART:20170630T180000
DTEND:20170630T200000
UID:51
DTSTAMP:20260425T205851
LOCATION:Lille.  Pub Mc Evan's - 8 place Sebastopol 59000 Lille
DESCRIPTION:Hello,\nLe Chapter Lille est rouvert depuis peu et nous sommes déjà une 15aine together ! Histoire de célèbrer cela, je vous propose de nous retrouver avant le weekend et les vacances d'été... ?\nDonc, si vous êtes là : Rendez-vous vendredi au Mc Evans, place Sebastopol à Lille, à partir de 18h00 pour discuter autour d'un verre ! ?\n\nJe réserverai une table à mon nom, pour nous retrouver + facilement\nCédric Foussard\n\n 
BEGIN:VALARM
ACTION:DISPLAY
TRIGGER:-PT60M
DESCRIPTION:Afterwork Chapter Lille
END:VALARM
END:VEVENT
END:VCALENDAR