BEGIN:VCALENDAR
VERSION:2.0
X-WR-TIMEZONE:Europe/Paris
PRODID:-//Audencia//NONSGML v1.0//EN
CALSCALE:GREGORIAN
BEGIN:VEVENT
SUMMARY:Afterwork Juillet - ALEX, Rotkreuzplatz
DTSTART:20170727T190000
DTEND:20170727T220000
UID:50
DTSTAMP:20260425T210122
LOCATION:ALEX MÜNCHEN ROTKREUZPLATZ, Rotkreuzplatz 8, 80634 München https://www.dein-alex.de/muenchen-rotkreuzplatz
DESCRIPTION:Bonjour,\n\npour le mois de juillet je vous propose de nous retrouver pour un afterwork d´été directement à Rotkreuzplatz dans le bar/restaurant Alex.\nInscriptions jusqu´au 24 juillet, après cela je réserverai la table.\n\nA bientôt!
BEGIN:VALARM
ACTION:DISPLAY
TRIGGER:-PT60M
DESCRIPTION:Afterwork Juillet - ALEX, Rotkreuzplatz
END:VALARM
END:VEVENT
END:VCALENDAR