BEGIN:VCALENDAR
VERSION:2.0
X-WR-TIMEZONE:Europe/Paris
PRODID:-//Audencia//NONSGML v1.0//EN
CALSCALE:GREGORIAN
BEGIN:VEVENT
SUMMARY:Les stratégies de l'exposition blockbuster
DTSTART:20170328T190000
DTEND:20170328T210000
UID:5
DTSTAMP:20260425T223736
LOCATION:Fondation d'entreprise Ricard - 12 Rue Boissy d'Anglas, 75008 Paris
DESCRIPTION:Pour participer à l'évènement : http://www.culture-et-management.com/debats/les-strategies-de-l-exposition-blockbuster.html \nAlors que l’exposition Chtchoukine à la Fondation Vuitton devrait atteindre une fréquentation jamais vue en France depuis 30 ans, et que l’exposition Vermeer au Musée du Louvre doit faire face à un afflux de visiteurs également exceptionnels, nous nous interrogeons sur les stratégies « blockbusters » pour les expositions temporaires.\n\n \n\nCe sont les grandes expositions fondées sur des noms connus et attractifs (Dali, Picasso… Tintin ou Harry Potter), des mouvements très populaires (l’impressionnisme… mais aussi le street art) ou des « marques », des univers forts et très grands publics (Star Wars…) : est-ce que les visiteurs répondent systématiquement présents ? La rentabilité est-elle acquise dès lors que l’on programme –et que l’on peut programmer- un grand nom ?\n\nTous les établissements ne peuvent exposer Monet : peut-on faire de tout sujet un « blockbuster » avec une stratégie marketing adaptée ?\n\nCertaines grandes expositions sont créées sur un modèle présupposant des tournées internationales, l’accueil dans des lieux qui ne sont pas nécessairement des musées. Quelle rentabilité pour ces opérations ? Et quel retour pour la structure ayant produit l’exposition ?\n\nEnfin une fois le succès là, quelles stratégies de gestion des flux, de services pour éviter de décevoir les publics ? Il s’agira d’attirer de nouveaux publics, idéalement pour pouvoir les fidéliser, les attirer vers le permanent… Quelles stratégies pour transformer le visiteur d’opportunité en habitué ? Comment créer de la rentabilité indirecte, de l’image, du rayonnement pour éviter l’effet « one shot » ?\n\nLes musées sont-ils « condamnés » à ne faire que des expositions blockbusters ?\n \n\nIntervenants\n\n\n	- Joachim Monégier du Sorbier, Directeur des publics de la Fondation Vuitton\n	- Olivier Retout, Directeur de Lascaux III l'exposition internationale\n	- Josy Torlet, Directrice des publics de Paris-Musées\n	- Aude Viart, Directrice du musée de Montmartre\n\n \n\nModérateurs\n\n\n	Anne RAVARD\n	In Extenso Tourisme Culture Hôtellerie/Directrice adjointe / Consultante sénior, Présidente c&m\n
BEGIN:VALARM
ACTION:DISPLAY
TRIGGER:-PT60M
DESCRIPTION:Les stratégies de l'exposition blockbuster
END:VALARM
END:VEVENT
END:VCALENDAR