BEGIN:VCALENDAR
VERSION:2.0
X-WR-TIMEZONE:Europe/Paris
PRODID:-//Audencia//NONSGML v1.0//EN
CALSCALE:GREGORIAN
BEGIN:VEVENT
SUMMARY:Happy Hour
DTSTART:20170628T200000
DTEND:20170628T220000
UID:49
DTSTAMP:20260425T205703
LOCATION:Le Cafe des Stagiaires, 158 Julu Lu, Datong Mille, 1/F, near Ruijin Yilu， Shanghai ， China 巨鹿路158号大同坊一楼，近瑞金一路， 上海
DESCRIPTION:Hi Everyone!\n\nAs our community is growing bigger, let's get together for a drink, chill and meet new people! \nThe rain isn't gonna stop us !\n\nSee ya soon!\n\nEugenia
BEGIN:VALARM
ACTION:DISPLAY
TRIGGER:-PT60M
DESCRIPTION:Happy Hour
END:VALARM
END:VEVENT
END:VCALENDAR