BEGIN:VCALENDAR
VERSION:2.0
X-WR-TIMEZONE:Europe/Paris
PRODID:-//Audencia//NONSGML v1.0//EN
CALSCALE:GREGORIAN
BEGIN:VEVENT
SUMMARY:Compétition Golf Audencia Alumni 2017
DTSTART:20170721T120000
DTEND:20170721T190000
UID:48
DTSTAMP:20260425T205704
LOCATION:Golf de Carquefou
DESCRIPTION:Bonjour,\n\nBertrand Dessirier, Michael Thoby, Sébastien Joumard (Paris), et moi-même, sommes les premiers inscrits ! Départs bloqués pour les golfeurs à 13H30. RDV sur place à partir de midi. Si nous sommes entre 9 et 12 , nous choisirons une formule type Scramble à 2 ou 3, pour partager une très belle partie de Golf.\nVous pouvez aussi m'appeler au 06-08-82-29-06. Gérard Crepel, Animateur club Golf. GE79 .
BEGIN:VALARM
ACTION:DISPLAY
TRIGGER:-PT60M
DESCRIPTION:Compétition Golf Audencia Alumni 2017
END:VALARM
END:VEVENT
END:VCALENDAR