BEGIN:VCALENDAR
VERSION:2.0
X-WR-TIMEZONE:Europe/Paris
PRODID:-//Audencia//NONSGML v1.0//EN
CALSCALE:GREGORIAN
BEGIN:VEVENT
SUMMARY:Afterwork Audencia London N°3
DTSTART:20170720T183000
DTEND:20170720T203000
UID:47
DTSTAMP:20260425T205723
LOCATION:50 Bermondsey Street, London SE1 3UD
DESCRIPTION:Audencia people of London,\n\nLet's meet for some summer drinks on Thursday 20 July at Tanner & Co on the very trendy Bermondsey Street on the South bank of the river, to exchange on our experience in London and make new friends.\n\nSee you all very soon.\n\nBien à vous,\n\nTristan Pelloux
BEGIN:VALARM
ACTION:DISPLAY
TRIGGER:-PT60M
DESCRIPTION:Afterwork Audencia London N°3
END:VALARM
END:VEVENT
END:VCALENDAR