BEGIN:VCALENDAR
VERSION:2.0
X-WR-TIMEZONE:Europe/Paris
PRODID:-//Audencia//NONSGML v1.0//EN
CALSCALE:GREGORIAN
BEGIN:VEVENT
SUMMARY:?‍♀️?Run & Afterwork Audencia #16 ?‍♀️??
DTSTART:20170620T195000
DTEND:20170620T230000
UID:46
DTSTAMP:20260425T223706
LOCATION:6, rue de la petite truanderie Bar le Max - Les Halles Paris
DESCRIPTION:?‍♀️?Run & Afterwork Audencia #16 ?‍♀️??\n\nVenez nous rejoindre au nouveau rdv sportif et networking parisien d'ores et déjà incontournable!\n\nC'est quand? Tous les mardis, départ 20h (arrivez un peu avant pour vous changer et déposer vos affaires)\n\nC'est où? Rdv au Bar le Max (6, rue de la petite Truanderie - Les Halles - Paris)\n\nPour qui? Pour TOUT LE MONDE : sportifs avérés ou non, diplomés ou non, Audenciens ou non (les amis, collègues, N+1 sont les bienvenus)... Un seul mot d'ordre : PLAISIR!\n\nQue faut-il ramener? Seulement vos baskets et votre bonne humeur (et qqs euros pour un verre)\n\nQuelle logistique? Vous pouvez vous changer et laisser vos affaires au bar durant le Run\n\nQuel parcours? Différentes boucles le long des Quais de Seine sont proposés... Aucun soucis si vous n'êtes jamais venu, vous ne serez pas seuls : des personnes de tout niveau et de toute promotion sont là chaque semaine\n\nEt après le Run? Un verre (ou 2) ??dans la foulée pour se connaitre et échanger\nOn compte sur vous pour venir et en parler autour de vous \n\n\nA mardi !! ?
BEGIN:VALARM
ACTION:DISPLAY
TRIGGER:-PT60M
DESCRIPTION:?‍♀️?Run & Afterwork Audencia #16 ?‍♀️??
END:VALARM
END:VEVENT
END:VCALENDAR