BEGIN:VCALENDAR
VERSION:2.0
X-WR-TIMEZONE:Europe/Paris
PRODID:-//Audencia//NONSGML v1.0//EN
CALSCALE:GREGORIAN
BEGIN:VEVENT
SUMMARY:Beijing Alumni Kickoff Event
DTSTART:20170616T190000
DTEND:20170616T220000
UID:45
DTSTAMP:20260425T223704
LOCATION:Q Mex Bar & Grill No.4 Gongti North Road, Chaoyang District | Next to Salsa Caribe and Nanjie Bar, Beijing, China
DESCRIPTION:Dear alumni fellows in Beijing,\n\nWelcome all of you to join our Beijing alumni chapter.\n\nLet's grow it bigger together by having fun first. We're having our first meet-up this Friday evening. Cannot wait to see you guys. Come and join us!\n\nSee you all at Q Mex Bar & Grill at 19:00 on June 16th. 
BEGIN:VALARM
ACTION:DISPLAY
TRIGGER:-PT60M
DESCRIPTION:Beijing Alumni Kickoff Event
END:VALARM
END:VEVENT
END:VCALENDAR