BEGIN:VCALENDAR
VERSION:2.0
X-WR-TIMEZONE:Europe/Paris
PRODID:-//Audencia//NONSGML v1.0//EN
CALSCALE:GREGORIAN
BEGIN:VEVENT
SUMMARY:[LA FINALE: PLACES LIMITEES] Start-up en Scène !
DTSTART:20170629T183000
DTEND:20170629T230000
UID:44
DTSTAMP:20260425T223704
LOCATION:Le Silencio, 142 rue Montmartre, 75002 Paris
DESCRIPTION:[EVENT PAYANT]\nVenez célébrer la fin de la saison Culture & Management en participant à la seconde édition de notre prix Start-up en Scène, l'événement networking exceptionnel du mois de juin !\n\nCet événement réseau, organisé avec le soutien de In Extenso TCH, Ecran Total, Livres Hebdo, LINCC, Paris&Co et Pitchy, vous propose de découvrir les start-up innovantes du secteur culturel et des industries créatives. Notre comité de sélection a analysé les dossiers déposés par les start-up suite à un appel à candidature afin de déterminer les lauréats dans les 4 catégories suivantes : Beaux Arts / Patrimoine, Edition, Musique, Spectacle Vivant. Pour l'occasion, le club Culture & Management a réuni dans son comité de sélection des personnalités reconnues pour leur expertise dans chacun de ces domaines :\n\n- Agnès ALFANDARI, Directrice du numérique de l’Institut français\n- Philippe BEAUVILLARD, Président du syndicat de la presse culturelle et scientifique\n- Stéphane CHABENAT, Président des Editions de l’Opportun\n- Lorraine DAUCHEZ, Fondatrice et présidente d’Arteum\n- Philippe GAUGUIER, Associé In Extenso Tourisme Culture Hôtellerie\n- Mahir GUVEN - Directeur exécutif de l’hebdo « le 1 »\n- Jean-Gabriel MINEL, Chef du département Recherche et Innovation numérique, Institut National de l’Audiovisuel\n- Philippe RIVIERE, Chef du service Numérique chez Paris Musées\n- Catherine PEYROT, responsable de la plateforme LINCC, Paris&Co\n- Olivier POUBELLE, Directeur d’Astérios Spectacles\nToutes les informations sur le prix et le comité de sélection sont disponibles sur le site dédié : www.start-up-en-scene.com.\n\nC'est dans le cadre du très exclusif club Silencio — véritable salon d'artiste qui doit sa scénographie au cinéaste David Lynch — que se déroulera la seconde édition de cet événement réseau exceptionnel. \n==> Vous êtes intéressés par l'entrepreneuriat culturel ?\nN’attendez-plus! Rendez-vous donc jeudi 29 juin à partir de 19h au club Silencio pour découvrir et échanger avec ces start-up innovantes lors d'une soirée spéciale prolongée par une séquence de networking.\n\nRéservez votre place en ligne : https://www.culture-et-management.com/debats/start-up-en-scene.html \nATTENTION: Notez que l'inscription est fortement recommandé, le nombre de places au club Silencio étant strictement limité pour des questions de sécurité.\n\nRAPPELS :\n- L'événement commence à 19h, l'accueil se fait à partir de 18h30\n- Pour le règlement, la carte bleue n'est pas acceptée mais vous pouvez régler par chèque ou en espèces.\n- Pour cet événement, un tarif unique de 25€ est appliqué à tous.\n\nAu plaisir de vous y voir nombreux, \nLes Animés!
BEGIN:VALARM
ACTION:DISPLAY
TRIGGER:-PT60M
DESCRIPTION:[LA FINALE: PLACES LIMITEES] Start-up en Scène !
END:VALARM
END:VEVENT
END:VCALENDAR