BEGIN:VCALENDAR
VERSION:2.0
X-WR-TIMEZONE:Europe/Paris
PRODID:-//Audencia//NONSGML v1.0//EN
CALSCALE:GREGORIAN
BEGIN:VEVENT
SUMMARY:Afterwork Audencia pour Elles
DTSTART:20170704T193000
DTEND:20170704T223000
UID:43
DTSTAMP:20260425T205715
LOCATION:L'atelier du bouchon, Paris
DESCRIPTION:Retrouvons-nous autour d'un verre pour se rencontrer et discuter des événements à venir d'Audencia pour Elles :)
BEGIN:VALARM
ACTION:DISPLAY
TRIGGER:-PT60M
DESCRIPTION:Afterwork Audencia pour Elles
END:VALARM
END:VEVENT
END:VCALENDAR