BEGIN:VCALENDAR
VERSION:2.0
X-WR-TIMEZONE:Europe/Paris
PRODID:-//Audencia//NONSGML v1.0//EN
CALSCALE:GREGORIAN
BEGIN:VEVENT
SUMMARY:Drink Geneva Alumni - Genève - Bateau Lavoir - Jeudi 24 août 18h30
DTSTART:20170824T183000
DTEND:20170824T230000
UID:42
DTSTAMP:20260425T205817
LOCATION:www.bateaulavoir.ch
DESCRIPTION:Les beaux jours sont arrivés ... !\nLe prochain drink 2017 aura lieu au Bateau Lavoir à coté de la Brasserie des Halles de l'Ille (Genève).\n18h30 - 21h00 et plus pour ceux qui voudraient diner ensuite.\n\nVenez avec vos nombreux amis !\n\nA bientôt\nSophie Huchet, Sandrine Pierre, Nicolas Jeantet & Rodolphe Morvan
BEGIN:VALARM
ACTION:DISPLAY
TRIGGER:-PT60M
DESCRIPTION:Drink Geneva Alumni - Genève - Bateau Lavoir - Jeudi 24 août 18h30
END:VALARM
END:VEVENT
END:VCALENDAR