BEGIN:VCALENDAR
VERSION:2.0
X-WR-TIMEZONE:Europe/Paris
PRODID:-//Audencia//NONSGML v1.0//EN
CALSCALE:GREGORIAN
BEGIN:VEVENT
SUMMARY:Soirée dégustation Pains, Fromages et Vins
DTSTART:20170613T200000
DTEND:20170613T230000
UID:41
DTSTAMP:20260425T223704
LOCATION:Le Bé2M, 32 bis rue Fouré 44000 Nantes
DESCRIPTION:Le réseau Audencia Bachelor Network vous propose une soirée : Pains, Fromages et Vins au restaurant Bé2M à Nantes, une occasion idéale pour se retrouver, échanger et se régaler.\nTarif préférentiel de 15€ au lieu de 35€.\nInscriptions (limitées aux 15 premières personnes) : https://www.eventbrite.fr/e/billets-soiree-pains-fromages-e….
BEGIN:VALARM
ACTION:DISPLAY
TRIGGER:-PT60M
DESCRIPTION:Soirée dégustation Pains, Fromages et Vins
END:VALARM
END:VEVENT
END:VCALENDAR