BEGIN:VCALENDAR
VERSION:2.0
X-WR-TIMEZONE:Europe/Paris
PRODID:-//Audencia//NONSGML v1.0//EN
CALSCALE:GREGORIAN
BEGIN:VEVENT
SUMMARY:Afterwork Munich
DTSTART:20170322T190000
DTEND:20170322T230000
UID:4
DTSTAMP:20260425T223738
LOCATION:Bar "Niederlassung", Buttermelcherstraße 6, 80469 München
DESCRIPTION:Retrouvons-nous pour échanger autour d'un verre au bar Niederlassung, situé derrière le Viktualienmarkt.
BEGIN:VALARM
ACTION:DISPLAY
TRIGGER:-PT60M
DESCRIPTION:Afterwork Munich
END:VALARM
END:VEVENT
END:VCALENDAR