BEGIN:VCALENDAR
VERSION:2.0
X-WR-TIMEZONE:Europe/Paris
PRODID:-//Audencia//NONSGML v1.0//EN
CALSCALE:GREGORIAN
BEGIN:VEVENT
SUMMARY:RDV avec la DTSI
DTSTART:20240628T070000
DTEND:20240628T080000
UID:384
DTSTAMP:20260425T205733
LOCATION:Quai de seine
DESCRIPTION:Venez nous voir !
BEGIN:VALARM
ACTION:DISPLAY
TRIGGER:-PT60M
DESCRIPTION:RDV avec la DTSI
END:VALARM
END:VEVENT
END:VCALENDAR