BEGIN:VCALENDAR
VERSION:2.0
X-WR-TIMEZONE:Europe/Paris
PRODID:-//Audencia//NONSGML v1.0//EN
CALSCALE:GREGORIAN
BEGIN:VEVENT
SUMMARY:CHAPTER TOULOUSE | Afterwork & Networking
DTSTART:20240221T193000
DTEND:20240221T230000
UID:382
DTSTAMP:20260425T205840
LOCATION:Lieu à venir
DESCRIPTION:Après le succès de la relance, le 2e afterwork est programmé pour le 21 février 2024 - Lieu à venir - Boissons et Tapas à la carte \n \nVos Ambassadeurs ont hâte de vous retrouver encore plus nombreux pour ce deuxième afterwork d'une longue série. Les 20 premiers étaient tous ravis, alors rejoignez-nous !\n\nComme la dernière fois et comme demandé par la majorité, ce sera ambiance décontractée et musicale avec tapas et boissons à la carte.\n\nPour nous faciliter la tâche de suivi et la transmission d'informations, prenez vos "billets gratuits" individuels.\n\nA très vite\n\nJulien Duguet (GE 00), Erwann Bardin (GE 18), Benoît Lamy de la Chapelle (MCI 06), Eva Perelroizen (GE 20)\n\n\nINSCRIPTION GRATUITE A L'EVENEMENT - c'est par ici : https://www.eventbrite.fr/e/billets-afterwork-audencia-toulouse-773867096317?aff=oddtdtcreator
BEGIN:VALARM
ACTION:DISPLAY
TRIGGER:-PT60M
DESCRIPTION:CHAPTER TOULOUSE | Afterwork & Networking
END:VALARM
END:VEVENT
END:VCALENDAR