BEGIN:VCALENDAR
VERSION:2.0
X-WR-TIMEZONE:Europe/Paris
PRODID:-//Audencia//NONSGML v1.0//EN
CALSCALE:GREGORIAN
BEGIN:VEVENT
SUMMARY:Audencia Alumni Drinks Valencia
DTSTART:20240111T190000
DTEND:20240111T210000
UID:381
DTSTAMP:20260425T205813
LOCATION:HAWAIKA, Carrer de l'Heroi Romeu, Valencia, Spain
DESCRIPTION:¡Reserve la fecha! Reunámonos el jueves 11 de enero a partir de las 19:00 para tomar unas copas y compartir las grandes cosas que conseguiremos en 2023 :-)\n\nHAWAIKA, Carrer de l'Heroi Romeu, Valencia, Spain
BEGIN:VALARM
ACTION:DISPLAY
TRIGGER:-PT60M
DESCRIPTION:Audencia Alumni Drinks Valencia
END:VALARM
END:VEVENT
END:VCALENDAR