BEGIN:VCALENDAR
VERSION:2.0
X-WR-TIMEZONE:Europe/Paris
PRODID:-//Audencia//NONSGML v1.0//EN
CALSCALE:GREGORIAN
BEGIN:VEVENT
SUMMARY:CLUB ENTREPRENEURS PARIS - Soirée Vœux de la Nouvelle Année 2024
DTSTART:20240125T193000
DTEND:20240125T223000
UID:380
DTSTAMP:20260425T210140
LOCATION:Chez Octave 32, rue Beaurepaire 75 010 Paris
DESCRIPTION: \n\nA VOS AGENDAS !\n\n \njeudi 25 Janvier à 19h30 \nChez "Octave" \n32, rue Beaurepaire - 75010 Paris\n\n \n\nChère communauté entrepreneuriale, chers amis,\n \nLe Club Entrepreneurs Audencia Alumni a le plaisir de vous annoncer la nouvelle soirée réseau !\n \nEn ce mois de Janvier, nous sommes heureux de vous inviter à nous retrouver tous ensemble pour célébrer cette nouvelle année 2024 autour des Vœux du Club, lors d’une belle soirée ApéroPitchs !\n \n \nAu programme : Les Vœux du Club, réseautage, entraide, partage d’expériences,  autour de la traditionnelle galette accompagnée de son buffet et d’une sélection de boissons de qualité…. Et bien sûr quelques pitchs !\n \nAu programme des pitchs, nous aurons pour cette première séance 2024:\n\nCharlotte WERLER\n AUDENCIA Grande Ecole 2011\nEntrepreneure spécialisée sur le bien vieillir, incubée chez Eclosition, Startup studio à impact\n\nChristophe LE BLANC \n AUDENCIA Grande Ecole 2011 - Ingénieur-Manager\nAssocié Fondateur de FABOR, Conseil en Cybersécurité pour la souveraineté des données des entreprises françaises\n\nLara NGO VAN\nAUDENCIA Grande Ecole 2015\nCo-fondatrice de Café Studio, créatrice de collectif et de vision positive autour de la transition écologique et sociétale\n\nChacun d'entre eux viendra nous présenter son activité et son actualité. \n\nEt vous alors? \nRévisez aussi votre pitch ! \nRéservez votre soirée le Jeudi 25 Janvier - 19h30\nInscrivez-vous dès à présent\nParlez-en à tous les entrepreneurs Alumni autour de vous pour qu'ils viennent s'inscrire à leur tour !\n \nEt pour celles et ceux qui ne pourront pas se rendre à Paris, pas d’inquiétude. Le Club n’entend oublier personne et proposera à venir d’autres canaux d’échanges et rencontres disponibles pour tous.\n\nA très bientôt !\n\nVos ambassadeurs Stéphane FEUILLU, Vincent MABIRE
BEGIN:VALARM
ACTION:DISPLAY
TRIGGER:-PT60M
DESCRIPTION:CLUB ENTREPRENEURS PARIS - Soirée Vœux de la Nouvelle Année 2024
END:VALARM
END:VEVENT
END:VCALENDAR