BEGIN:VCALENDAR
VERSION:2.0
X-WR-TIMEZONE:Europe/Paris
PRODID:-//Audencia//NONSGML v1.0//EN
CALSCALE:GREGORIAN
BEGIN:VEVENT
SUMMARY:Chapter RENNES : Dégustation vin fromage
DTSTART:20231207T193000
DTEND:20231207T223000
UID:379
DTSTAMP:20260425T205949
LOCATION:LES CANONNIERS 19, rue de la Monnaie 35000 RENNES
DESCRIPTION:\nBonjour à tous,\n\nC'est avec plaisir que je vous propose de nous retrouver autour d'une dégustation vin, fromage et charcuterie\n \nJeudi 7 décembre - 19h30\n\nDégustation vin - Cave Les Canonniers\nAttention : changement de lieu\n\n25€ /pers.\n\n\nCette soirée se fera en présence de :\n\nFrédéric Duval, économiste et délégué général du Medef Bretagne,\nqui nous livrera son analyse de la situation économique du pays.\n\n\nLe prix fixe par personne de cette dégustation est de 25€.\nJe vous attends nombreux ! \n\nA très bientôt, \nThomas ROUSSEAU (GE 12)\nthomas.rousseau@verlingue.fr\n\n\n\n\n\n\nNB : En participant à cet événement, vous acceptez que nous communiquions votre e-mail à l'Ambassadeur du chapter Rennes, Thomas Rousseau, dans le cadre strict de cette communauté Audencia Alumni du chapter Rennes.\n 
BEGIN:VALARM
ACTION:DISPLAY
TRIGGER:-PT60M
DESCRIPTION:Chapter RENNES : Dégustation vin fromage
END:VALARM
END:VEVENT
END:VCALENDAR