BEGIN:VCALENDAR
VERSION:2.0
X-WR-TIMEZONE:Europe/Paris
PRODID:-//Audencia//NONSGML v1.0//EN
CALSCALE:GREGORIAN
BEGIN:VEVENT
SUMMARY:CHAPTER AMSTERDAM : Audencia Raclette version 2023
DTSTART:20231121T200000
DTEND:20231121T230000
UID:378
DTSTAMP:20260425T205816
LOCATION:Bistrot des Alpes, Utrechtsedwarsstraat 141, 1017 WE Amsterdam
DESCRIPTION:Le froid s'installant désormais sur les Pays-Bas, il est grand temps de nous retrouver pour notre annuelle Raclette Audencia ! RDV au célèbre et charmant Bistrot Des Alpes (Utrechtsedwarsstraat 141, 1017 WE Amsterdam) le mardi 21 novembre à 20h15.\nMerci de confirmer votre venue dans le groupe WhatsApp (ou directement auprès de Matthieu ou Léa).\n\nWinter is coming... to the Netherlands and it is therefore high time to organize our annual Audencia Raclette! Let's meet at the famous and cozy Bistrot Des Alpes (Utrechtsedwarsstraat 141, 1017 WE Amsterdam) on Tuesday 21 Novmeber at 20:15.\nPlease RSVP in the WhatsApp group (or directly with Matthieu or Léa).
BEGIN:VALARM
ACTION:DISPLAY
TRIGGER:-PT60M
DESCRIPTION:CHAPTER AMSTERDAM : Audencia Raclette version 2023
END:VALARM
END:VEVENT
END:VCALENDAR