BEGIN:VCALENDAR
VERSION:2.0
X-WR-TIMEZONE:Europe/Paris
PRODID:-//Audencia//NONSGML v1.0//EN
CALSCALE:GREGORIAN
BEGIN:VEVENT
SUMMARY:Afterwork Automnal - Chapter Zürich
DTSTART:20231109T180000
DTEND:20231109T210000
UID:377
DTSTAMP:20260425T205858
LOCATION:Gainsbourg Bar
DESCRIPTION:Un petit afterwork comme on les aime!\n\nRdV au Gainsbourg Bar sur la Kreuzstrasse.\nRéservation au nom de Maxence.\n\nA très vite!
BEGIN:VALARM
ACTION:DISPLAY
TRIGGER:-PT60M
DESCRIPTION:Afterwork Automnal - Chapter Zürich
END:VALARM
END:VEVENT
END:VCALENDAR