BEGIN:VCALENDAR
VERSION:2.0
X-WR-TIMEZONE:Europe/Paris
PRODID:-//Audencia//NONSGML v1.0//EN
CALSCALE:GREGORIAN
BEGIN:VEVENT
SUMMARY:Afterwork relance Chapter Toulouse
DTSTART:20231115T193000
DTEND:20231115T230000
UID:376
DTSTAMP:20260425T205822
LOCATION:Le Grand Zinc 2 Bd Lascrosses, 31000 Toulouse
DESCRIPTION:Chers alumni de Toulouse,\n\nC'est avec enthousiasme que nous relançons le Chapter Toulouse autour d'un premier afterwork. Ce moment convivial sera l'occasion d'échanger et de faire connaissance.  \n\nC'est un "Save the Date", manifestez votre intérêt en vous inscrivant dès maintenant et restez à l'affût des détails à venir.\n\nEnsemble, faisons revivre la communauté Audencia à Toulouse !\n\n \n\n\n 
BEGIN:VALARM
ACTION:DISPLAY
TRIGGER:-PT60M
DESCRIPTION:Afterwork relance Chapter Toulouse
END:VALARM
END:VEVENT
END:VCALENDAR