BEGIN:VCALENDAR
VERSION:2.0
X-WR-TIMEZONE:Europe/Paris
PRODID:-//Audencia//NONSGML v1.0//EN
CALSCALE:GREGORIAN
BEGIN:VEVENT
SUMMARY:AFTERWORK au Musée d'Art et d'Histoire de Genève
DTSTART:20231005T190000
DTEND:20231005T220000
UID:374
DTSTAMP:20260425T205820
LOCATION:Musée Art et Histoire de Genève
DESCRIPTION:Bonjour à tous,\n\nJ'espère que vous allez bien ☀️\n\nSuite au grand succès de l’édition afterwork au musée de 2022 je me réjouis de vous convier à l'edition 2023 sur le thème MAH AU QUEEROSCOPE\n\nPour l'occasion, rendez vous au MAH - Musée Art et Histoire de Genève dès 19h00. Comme il s'agit d'un afterwork dans un musée, l'idée est de découvrir l'exposition ainsi que les artistes avec possibilité de prendre des verres au Barocco restaurant du Musée. \n\nRendez-vous ici pour plus d'infos :\nhttps://www.facebook.com/events/860223899128709/?ref=newsfeed\nhttp://institutions.ville-geneve.ch/fr/mah/expositions-evenements/evenements/afterworks/\n\nMerci de bien nous tenir au courant si vous venez pour estimer le nombre de personnes.\nMélina sur Whatsapp : (+33) 6 66 83 03 71\n\nLieu du rdv 19h00 devant l'entrée principale du musée\n 
BEGIN:VALARM
ACTION:DISPLAY
TRIGGER:-PT60M
DESCRIPTION:AFTERWORK au Musée d'Art et d'Histoire de Genève
END:VALARM
END:VEVENT
END:VCALENDAR