BEGIN:VCALENDAR
VERSION:2.0
X-WR-TIMEZONE:Europe/Paris
PRODID:-//Audencia//NONSGML v1.0//EN
CALSCALE:GREGORIAN
BEGIN:VEVENT
SUMMARY:Soirée Interalumni avec les autres grandes écoles |  "Perspectives pour notre territoire" à la CCI du Mans
DTSTART:20231115T183000
DTEND:20231115T213000
UID:373
DTSTAMP:20260425T210005
LOCATION:CCI Le Mans-Sarthe Le Mans
DESCRIPTION:Le Chapter Audencia Alumni Le Mans,\nen partenariat avec les Alumni HEC de la Sarthe,\n\nsont heureux de vous inviter à une soirée Afterwork Interalumni grandes écoles \n\nLe 15 novembre 2023\nde 18h30 à 21h30 \nà la Chambre de Commerce et d'Industrie du Mans et de la Sarthe\n\n\nNous serons reçus par Philippe Brunet, Directeur Général de la CCI Le Mans Sarthe, qui nous fera l'honneur d'intervenir sur la thématique "Perspectives pour notre territoire" et d'échanger ensuite de manière informelle avec les participants.\n\nNous clôturerons cette rencontre avec un verre de l'amitié.\n \n\nJe vous remercie de me confirmer votre présence : apecaud@rhetorike.fr ou en vous inscrivant directement sur Together.\n\nAu plaisir de vous y retrouver.\n\nAurélie Pécaud, Ambassadrice Chapter Audencia Alumni Le Mans\n\n 
BEGIN:VALARM
ACTION:DISPLAY
TRIGGER:-PT60M
DESCRIPTION:Soirée Interalumni avec les autres grandes écoles |  "Perspectives pour notre territoire" à la CCI du Mans
END:VALARM
END:VEVENT
END:VCALENDAR