BEGIN:VCALENDAR
VERSION:2.0
X-WR-TIMEZONE:Europe/Paris
PRODID:-//Audencia//NONSGML v1.0//EN
CALSCALE:GREGORIAN
BEGIN:VEVENT
SUMMARY:Afterwork Audencia avec Mr Supper- 19.10.2023
DTSTART:20231019T190000
DTEND:20231019T220000
UID:372
DTSTAMP:20260425T205724
LOCATION:Paulaner Bräuhaus, Kapuzinerpl. 5, 80337 Munich
DESCRIPTION:Cher réseau Audencia Munich,\n\nA l'occasion du passage de Monsieur Supper, nous organisons un afterwork le 19 octobre dans le centre de Munich. Il aura lieu à partir de 19h au Paulaner Bräuhaus à l'adresse suivante: Kapuzinerstr 5.\n\nN'hésitez pas à vous inscrire si vous résidez à Munich ou y êtes de passage!\n\nBien à vous\n\nPierre et Jonathan (ambassadeurs Audencia Munich)
BEGIN:VALARM
ACTION:DISPLAY
TRIGGER:-PT60M
DESCRIPTION:Afterwork Audencia avec Mr Supper- 19.10.2023
END:VALARM
END:VEVENT
END:VCALENDAR