BEGIN:VCALENDAR
VERSION:2.0
X-WR-TIMEZONE:Europe/Paris
PRODID:-//Audencia//NONSGML v1.0//EN
CALSCALE:GREGORIAN
BEGIN:VEVENT
SUMMARY:Afterwork à Rennes
DTSTART:20230919T193000
DTEND:20230919T220000
UID:369
DTSTAMP:20260426T001659
LOCATION:Bar Loco Loca 17, rue Comté de Lanjuinais 35000 Rennes
DESCRIPTION:\n\n- INVITATION -\nLe retour des afterworks alumni à RENNES\n\n \n\nLe Chapter Rennes vous propose de vous retrouver pour une soirée conviviale\n \nMardi 19 septembre à 19h30\n- Audencia Alumni vous offre le premier verre -\n\n\nCe sera l'occasion pour Emmanuel Lacroix (GE 09) de passer l'animation de notre réseau 'local' à Thomas Rousseau (GE 12).\n\n\n	Un immense merci à Emmanuel pour toutes ces années à réunir les Alumni de la région autour de propositions variées.\n	Et merci à Thomas de reprendre le flambeau ! N'hésitez pas à lui apporter votre aide.\n\n\n\nNous vous attendons nombreux !\n\nContact : Thomas Rousseau, thomas.rousseau@verlingue.fr\n \n\n\n
BEGIN:VALARM
ACTION:DISPLAY
TRIGGER:-PT60M
DESCRIPTION:Afterwork à Rennes
END:VALARM
END:VEVENT
END:VCALENDAR