BEGIN:VCALENDAR
VERSION:2.0
X-WR-TIMEZONE:Europe/Paris
PRODID:-//Audencia//NONSGML v1.0//EN
CALSCALE:GREGORIAN
BEGIN:VEVENT
SUMMARY:Afterwork d'été du Chapter Nantes
DTSTART:20230627T183000
DTEND:20230627T223000
UID:366
DTSTAMP:20260425T205900
LOCATION:Guinguette 40 pieds, Maillé Brézé, Quai de la Fosse, 44000 Nantes
DESCRIPTION:Pour ce dernier moment avant la pause estivale, vos ambassadrices vous proposent de guincher ! \n\nRendez-vous à la Guinguette "40 pieds", au Maillé Brézé en bord de Loire. Pour rendre ce moment convivial, un verre d'accueil vous sera proposé avec de quoi grignoter, et des animations autour de jeux d'été vous permettront d'apprendre à connaître (ou redécouvrir) le réseau des Alumni des Pays de la Loire.\n\nPour facilier l'organisation, vous pouvez vous incrire gratuitement sur cette page jusqu'au 25 juin.\n\nNous vous attendons nombreux pour profiter de cette belle soirée. \nHélène, Majorie, Claire, Sandrine, Alexandra et Sixtine\n\nPS : pour être informés de toutes les actualités du Chapter, RDV sur notre groupe Linkedin : https://www.linkedin.com/groups/13972618
BEGIN:VALARM
ACTION:DISPLAY
TRIGGER:-PT60M
DESCRIPTION:Afterwork d'été du Chapter Nantes
END:VALARM
END:VEVENT
END:VCALENDAR