BEGIN:VCALENDAR
VERSION:2.0
X-WR-TIMEZONE:Europe/Paris
PRODID:-//Audencia//NONSGML v1.0//EN
CALSCALE:GREGORIAN
BEGIN:VEVENT
SUMMARY:Summer borrel
DTSTART:20230622T183000
DTEND:20230622T230000
UID:365
DTSTAMP:20260425T210031
LOCATION:Proeflokaal 't Blauwe Theehuis
DESCRIPTION:Hey all,\n\nSave the date for the next Audencia Alumni borrel! A perfect moment to discuss our holiday plans, nice discoveries in the city or else. Also a good opportunity to keep the networking going, with a good biertje and hopefully some sun.\n\nDate: Thursday the 22nd of June\nTime: 18:30\nWhere: Proeflokaal 't Blauwe Theehuis\n\nTot ziens!
BEGIN:VALARM
ACTION:DISPLAY
TRIGGER:-PT60M
DESCRIPTION:Summer borrel
END:VALARM
END:VEVENT
END:VCALENDAR