BEGIN:VCALENDAR
VERSION:2.0
X-WR-TIMEZONE:Europe/Paris
PRODID:-//Audencia//NONSGML v1.0//EN
CALSCALE:GREGORIAN
BEGIN:VEVENT
SUMMARY:Petit-déjeuner du Chapter le Mans - Rendez-vous chez ID4Mobility !
DTSTART:20230602T083000
DTEND:20230602T100000
UID:362
DTSTAMP:20260425T205732
LOCATION:ID4Mobility dans les locaux de Le Mans Innovation
DESCRIPTION:Le Chapter Audencia Alumni Le Mans vous invite à un petit-déjeuner découverte d'entreprise, chez ID4Mobility, le vendredi 2 juin à 8h30.\n\nA une semaine des 100 ans des 24H, Antoine Surgot, directeur Industrie et Croissance d'ID4Mobility, nous présentera le pôle de compétitivité et son activité concernant les mobilités de demain.\n\nNous parlerons aussi de l’interalumni qui a regroupé en mars 4 grandes écoles (Audencia, HEC, SUPELEC, Polytechnique).\n 
BEGIN:VALARM
ACTION:DISPLAY
TRIGGER:-PT60M
DESCRIPTION:Petit-déjeuner du Chapter le Mans - Rendez-vous chez ID4Mobility !
END:VALARM
END:VEVENT
END:VCALENDAR