BEGIN:VCALENDAR
VERSION:2.0
X-WR-TIMEZONE:Europe/Paris
PRODID:-//Audencia//NONSGML v1.0//EN
CALSCALE:GREGORIAN
BEGIN:VEVENT
SUMMARY:Club Marketing & Digital : Masterclass - MARKETING d'INFLUENCE : les tendances 2023
DTSTART:20230614T191500
DTEND:20230614T220000
UID:361
DTSTAMP:20260425T205953
LOCATION:Audencia 95 rue Falguière 75015 Paris
DESCRIPTION: \n\nDévelopper votre visibilité grâce au marketing d'influence en 2023\n\n\nQuelle que soit la taille de votre marque, ou de votre entreprise, une stratégie de marketing d'influence bien menée peut être un levier très efficace pour faire grandir rapidement votre notoriété et engager vos communautés. \n\nL'avez vous intégré dans votre stratégie marketing ?\nQuelles sont les grandes tendances actuelles ?  Quelles sont les campagnes qui cartonnent ?\nQuels médias privilégier ?\nMacro, micro, nano influenceurs ? Comment les identifier et créer une relation de confiance avec eux ?\n \n\nVenez rencontrer et poser toutes vos questions brulantes à Sébastien Bouillet (GE 10) fondateur de l'agence Influence4You, pionniers depuis 2012 et leaders européens du marketing d'influence.\n\nBrigitte Neveu-Dérotrie (GE 85) anime le Club Marketing & Digital. Elle est fondatrice de Yélen communication, consultante et formatrice en marketing et communication digitale B2B.\n\nProgramme :\n19h Accueil & rafraichissement\n19h30 Présentation du club marketing digital et des intervenants\n19h45 Masterclass par Sébastien Bouillet & échanges avec la salle\n21h Poursuite des échanges autour d'un apéritif dinatoire.\n\n\n \n\n\n 
BEGIN:VALARM
ACTION:DISPLAY
TRIGGER:-PT60M
DESCRIPTION:Club Marketing & Digital : Masterclass - MARKETING d'INFLUENCE : les tendances 2023
END:VALARM
END:VEVENT
END:VCALENDAR